BEGIN:VCALENDAR
VERSION:2.0
PRODID:-//Cultures Permanentes - ECPv6.5.1//NONSGML v1.0//EN
CALSCALE:GREGORIAN
METHOD:PUBLISH
X-ORIGINAL-URL:https://www.cultures-permanentes.com
X-WR-CALDESC:évènements pour Cultures Permanentes
REFRESH-INTERVAL;VALUE=DURATION:PT1H
X-Robots-Tag:noindex
X-PUBLISHED-TTL:PT1H
BEGIN:VTIMEZONE
TZID:Europe/Paris
BEGIN:DAYLIGHT
TZOFFSETFROM:+0100
TZOFFSETTO:+0200
TZNAME:CEST
DTSTART:20260329T010000
END:DAYLIGHT
BEGIN:STANDARD
TZOFFSETFROM:+0200
TZOFFSETTO:+0100
TZNAME:CET
DTSTART:20261025T010000
END:STANDARD
END:VTIMEZONE
BEGIN:VEVENT
DTSTART;TZID=Europe/Paris:20260203T090000
DTEND;TZID=Europe/Paris:20260203T170000
DTSTAMP:20260422T105137
CREATED:20251117T143033Z
LAST-MODIFIED:20260123T150358Z
UID:3046-1770109200-1770138000@www.cultures-permanentes.com
SUMMARY:Régénération des sols
DESCRIPTION:Régénération des sols⎮ 3 février 2026⎮ Marseille\nAction de formation de 7 heures (1 jour) en salle/terrain \nPossibilités de financement :  VIVEA ⎮ OPCO⎮ France Travail \n\nOBJECTIFS DE LA FORMATION \nA l’issue de la formation\, les participants seront en capacité de : \nÉvaluer la qualité d’un sol \n\nIdentifier les indicateurs d’un sol sain.\nRéaliser un diagnostic simple du sol à partir d’observations et de tests de terrain.\n\nMettre en œuvre des techniques simples de protection et de régénération du sol \n\nAppliquer des pratiques adaptées (paillage\, couverture végétale\, compost\, non-travail du sol\, etc.).\nChoisir les outils et gestes permettant de préserver la structure du sol.\n\nAgir pour inverser les processus de dégradation biologique du sol \n\nRepérer les causes de dégradation (érosion\, tassement\, appauvrissement\, perte de biodiversité).\nProposer et appliquer des actions correctives favorisant le retour de la vie dans le sol.\n\nSélectionner et adapter des procédés durables en fonction des plantations souhaitées \n\nAssocier les techniques d’amélioration du sol aux besoins spécifiques des cultures (arbres\, légumes\, aromatiques…).\nÉlaborer un plan d’amendement et de gestion durable du sol adapté à un projet de plantation donné.\n\n\nPOUR QUI ? \nCette formation s’adresse : \n\nAux professionnels du végétal : maraîchers\, horticulteurs\, pépiniéristes\, arboriculteurs\, viticulteurs.\nAux acteurs de l’aménagement du territoire : techniciens municipaux\, agents d’espaces verts\, gestionnaires de parcs et jardins.\nAux porteurs de projets agricoles ou de permaculture\, qu’ils soient débutants ou en reconversion.\nAux particuliers passionnés de jardinage\, souhaitant comprendre la vie du sol et mettre en œuvre des pratiques durables.\nAux éducateurs\, animateurs nature et intervenants en environnement\, qui souhaitent transmettre des pratiques de sol vivant.\n\nCette formation est accessible à tout public sans connaissance technique spécifique\, aucune exigence de formation ou d’expérience professionnelle préalable n’est requise. \nLe groupe sera constitué de 12 personnes maximum. \n\nQUAND et OÙ?\nMardi 3 février 2026 de 9h à 12h30 et de 13h30 à 17h à la Ferme du Roy d’Espagne à Marseille. \n\nLE FORMATEUR \nRomain CRIQUET est l’un des fondateurs de Cultures Permanentes\, qu’il co-dirige depuis 2016. Il a été formé par les plus grand experts et concepteur en permaculture (Geoff Lawton\, Warren Brush\, Andrew & Jessie Darlington)\, en agriculture de régénération (Darren Doherty) et en ethnobotanique avec François Couplan en suivant pendant 3 ans le Collège Pratique d’Ethnobotanique. Il intervient à l’École Nationale d’Architecture de Marseille depuis 2018 où il enseigne la “méthodologie de projet en permaculture appliquée à la programmation et à la conception architecturale” aux côtés d’Antoine Kilian\, de Duncan Lewis et de Jean Marc Huygen. Il conçoit et anime également pour le CFPPA de Mayotte une formation en agriculture syntropique. \n\nMÉTHODE PÉDAGOGIQUE MOBILISÉE \nLa formation alterne apports théoriques et mises en pratique afin de favoriser l’appropriation progressive des connaissances : cours théorique en salle (présentation diaporama) ; ateliers pratiques sur le terrain pour expérimenter les méthodes d’observation\, de diagnostic et les techniques simples de régénération du sol. Remise d’un support pédagogique complet\, incluant l’ensemble des diapositives présentées et des ressources complémentaires. \n\nMODALITÉS D’ÉVALUATION\nLes temps d’ateliers pratiques seront l’occasion d’évaluer les acquis mais aussi si besoin de reformuler les connaissances à acquérir. Un questionnaire d’évaluation pédagogique (contenus\, qualité d’échange) et organisationnel (fluidité de procédure d’inscription\, accompagnement\, accueil des stagiaires) de la formation sera transmis aux participants en fin de formation. \n\nCONTENUS \nIntroduction à la pédogenèse et aux horizons du sol \nIntroduction à l’écosystème vivant du sol : le réseau trophique du sol\, la vie sous nos pieds \nBases pour un jardinage et une agriculture respectueuse des sols \nPréparation des sols \nL’utilisation des différents types d’engrais verts \n\nINSCRIPTIONS\, TARIFS ET FINANCEMENTS\n👉 Renseignements et inscriptions : elise@cultures-permanentes.com \n👉 Tarifs + 10€ d’adhésion sur HelloAsso \nEntreprises\, associations\, OPCO : 300 € (1 jour) \nParticuliers (autofinancement) : 125 € (1 jour) \n👉 Financements \nCultures Permanentes est un organisme de formation certifié Qualiopi\, ce qui signifie que nos formations peuvent être prises en charge par de nombreux organismes\, selon votre statut professionnel : \npour les travailleurs non-salariés : les fonds d’assurance formation : Vivea\, AGEFICE\, FIFPL… (trouver votre FAF : https://www.service-public.fr/professionnels-entreprises/vosdroits/F31148) \npour les salariés d’entreprise privée : soit l’employeur\, soit l’opérateur de compétences (OPCO) rattaché à votre branche professionnelle : OPCO EP\, UNIFORMATION… (trouver votre OPCO : https://travail-emploi.gouv.fr/ministere/acteurs/partenaires/opco ) \npour les fonctionnaires d’une collectivité ou salariés d’employeur public : mairie\, conseil régional/général (éventuellement via une mission locale\, pour les moins de 25 ans) ou autres structures publiques acceptent dans certains cas le financement de nos formations \npour les demandeurs d’emploi / intermittents : nous avons la possibilité de soumettre un devis à votre nom directement sur la plateforme Kairos de Pole emploi. N’hésitez pas à nous en faire la demande et à contacter votre conseiller Pole emploi. \nNous vous invitons à vous renseigner directement auprès de ces structures pour présenter votre projet de formation et évaluer les possibilités de financement. \nAutofinancement : Si vous ne pouvez pas bénéficier d’un financement pour votre formation\, le coût de la formation est à votre charge. Nous vous proposons alors un tarif privilégié (autofinancement). Merci de noter qu’en cas d’autofinancement\, il ne sera pas délivré de facture. Nous pouvons convenir ensemble d’un échéancier de paiement si nécessaire. D’autre part\, quelques places peuvent être proposées à tarif solidaire pour les étudiants et personnes rencontrant des difficultés financières. Nous contacter. \n\nL’ORGANISME DE FORMATION\nCultures Permanentes est une structure associative qui accompagne la transition écologique des modèles d’aménagements paysagers\, urbains et agricoles à travers différents champs d’activités : la formation professionnelle\, la conception et la réalisation de projets\, la sensibilisation et l’animation tout public. Le projet de l’association vise à promouvoir les pratiques régénératives en agriculture\, hydrologie et économie\, et à renforcer l’autonomie et la résilience des territoires. Nos actions s’appuient sur les valeurs de la permaculture : prendre soin du vivant et des communautés\, partager équitablement et assurer une gestion durable des ressources. \nCultures Permanentes est un organisme de formation enregistré en préfecture sous le n°93131687813\, SIRET 82281628600014\, certifié Qualiopi n° 88612-2. En 2024\, le taux de satisfaction global des stagiaires est de 4\,5/5 . \nAccessibilité : si votre situation nécessite des aménagements particuliers\, merci de nous contacter afin d’évaluer ensemble les adaptations possibles. \nRèglement intérieur : Consulter.  \nPage mise à jour le 23 janvier 2026
URL:https://www.cultures-permanentes.com/evenement/regenerer-les-sols1-26/
CATEGORIES:Formation
ATTACH;FMTTYPE=image/png:https://www.cultures-permanentes.com/wp-content/uploads/2025/11/Formation-visuel-RS-3-2.png
ORGANIZER;CN="Elise - Cultures Permanentes":MAILTO:elise@cultures-permanentes.com
END:VEVENT
END:VCALENDAR